BEGIN:VCALENDAR
VERSION:2.0
PRODID:-//Tukios.com/
BEGIN:VEVENT
UID:a6f2b710-cfab-4f2a-b099-fc5c31bd5343@www.olsonfuneralhome.com
DTSTAMP:20260424T204252Z
DTSTART:20260428T150000Z
DTEND:20260428T153000Z
SUMMARY:Graveside Service
DESCRIPTION:
URL:https://www.olsonfuneralhome.com/obituaries/oscar-lammers
LOCATION:Stavanger Cemetery     
GEO:0;0
END:VEVENT
END:VCALENDAR