BEGIN:VCALENDAR
VERSION:2.0
PRODID:-//Tukios.com/
BEGIN:VEVENT
UID:033cbb1d-092c-4e7e-a6c7-da9031ad717e@www.olsonfuneralhome.com
DTSTAMP:20260421T231038Z
DTSTART:20260516T160000Z
DTEND:20260516T170000Z
SUMMARY:Memorial Service
DESCRIPTION:
URL:https://www.olsonfuneralhome.com/obituaries/marvin-westvig
LOCATION:Olson Funeral and Cremation 711 Pebble Lake Road  Fergus Falls 
	MN 56537
GEO:46.2768634;-96.0590574
END:VEVENT
END:VCALENDAR