BEGIN:VCALENDAR
VERSION:2.0
PRODID:-//Tukios.com/
BEGIN:VEVENT
UID:6f71d3a0-652f-4959-abca-05d353fc6fcc@www.olsonfuneralhome.com
DTSTAMP:20260419T125346Z
DTSTART:20260423T220000Z
DTEND:20260424T000000Z
SUMMARY:Public Visitation
DESCRIPTION:
URL:https://www.olsonfuneralhome.com/obituaries/cheryl-harrington
LOCATION:Federated Church 224 N Union Ave  Fergus Falls MN 56537
GEO:46.285327;-96.077285
END:VEVENT
END:VCALENDAR